Workbook

Sheet قائمة العملاء - Customers List
A1: طريقة تعبئة الملف | B1: 1- Search in the sheet "All data" 2- If the customer's name is exist, please copy the code assigned to him. 3- Go to back to this sheet and paste the code in cell A4 (all other cells will be automatically filled in the corresponding customer details). 4- Complete filling the codes for the remaining customers in column A. 5- If the customer's name does not exist in the "All Data" sheet, you must manually fill in the fields from column B to H. 6-If there are other clients such as distributors or there are quantities in warehouses, all data must be filled manually for them except for (Code) 7-Ensure that all fields in the Customers list are completed. When filling in the customer name, please mention the information of the customer who currently owns the device (healthcare provider - or warehouse / points of sale - or lay person customer) and not the entity that distributed the medical devices or supplies or was an intermediary in the distribution process. | C1: 1- قم بالبحث عن اسم العميل في "All data" 2- في حال كان اسم العميل موجود، قم بنسخ الرمز (Code) الخاص بالعميل. 3- قم بالرجوع الى هذه الصفحة وقم بلصق الرمز في الخلية A4 (ستظهر بشكل تلقائي جميع المعلومات الخاصة بالعميل في الخانات الاخرى). 4- التاكد من حصر جميع العملاء بنفس الطريقة. 5- في حال عدم وجود اسم العميل في ""All data" فيتم اضافة معلومات العميل بشكل يدوي في هذه الصفحة مع ضرورة التأكد من تعبئة جميع الخانات في العمود B الى H. 6- في حال وجود عملاء اخرين مثل شركات توزيع أو وجود كميات في المستودعات، فيجب تعبئة بياناتها بشكل يدوي في جميع الخانات عدا الخانة (Code) 7- التأكد من تعبئة جميع الخلايا في خانة (Customers list) عند تعبئة اسم العميل فيجب ذكر العميل النهائي الموجود لديه الأجهزة حاليا (مقدم الرعاية الصحية - أو المستودع / نقاط البيع - أو العميل الفرد) وليس الجهة التي قامت بتوزيع الأجهزة أو المستلزمات الطبية أو كانت وسيط في عملية التوزيع.
A2: Customers List | J2: Progress report | R2: Yes
A3: Code | B3: اسم العميل | C3: Customer Name | D3: المدينة | E3: City | F3: المنطقة الإدارية | G3: Administrative Region | H3: الحي | I3: Number of affected products | J3: Name of responsible person | K3: Official E-mail address | L3: Mobile number or phone number with extension | M3: Customer notified? | N3: Acknowledgment provided? | O3: Number of corrected units | P3: Are all three attempts for communication done? | Q3: Comment | R3: No
B4: =IFERROR(INDEX('All data'!$B:$B, MATCH(A4,'All data'!$A:$A, 0)), "") | C4: =IFERROR(INDEX('All data'!$C:$C, MATCH(A4,'All data'!$A:$A, 0)), "") | D4: =IFERROR(INDEX('All data'!$D:$D, MATCH(A4,'All data'!$A:$A, 0)), "") | E4: =IFERROR(INDEX('All data'!$E:$E, MATCH(A4,'All data'!$A:$A, 0)), "") | F4: =IFERROR(INDEX('All data'!$F:$F, MATCH(A4,'All data'!$A:$A, 0)), "") | G4: =IFERROR(INDEX('All data'!$G:$G, MATCH(A4,'All data'!$A:$A, 0)), "") | H4: =IFERROR(INDEX('All data'!$H:$H, MATCH(A4,'All data'!$A:$A, 0)), "")
B5: =IFERROR(INDEX('All data'!$B:$B, MATCH(A5,'All data'!$A:$A, 0)), "") | C5: =IFERROR(INDEX('All data'!$C:$C, MATCH(A5,'All data'!$A:$A, 0)), "") | D5: =IFERROR(INDEX('All data'!$D:$D, MATCH(A5,'All data'!$A:$A, 0)), "") | E5: =IFERROR(INDEX('All data'!$E:$E, MATCH(A5,'All data'!$A:$A, 0)), "") | F5: =IFERROR(INDEX('All data'!$F:$F, MATCH(A5,'All data'!$A:$A, 0)), "") | G5: =IFERROR(INDEX('All data'!$G:$G, MATCH(A5,'All data'!$A:$A, 0)), "") | H5: =IFERROR(INDEX('All data'!$H:$H, MATCH(A5,'All data'!$A:$A, 0)), "")
B6: =IFERROR(INDEX('All data'!$B:$B, MATCH(A6,'All data'!$A:$A, 0)), "") | C6: =IFERROR(INDEX('All data'!$C:$C, MATCH(A6,'All data'!$A:$A, 0)), "") | D6: =IFERROR(INDEX('All data'!$D:$D, MATCH(A6,'All data'!$A:$A, 0)), "") | E6: =IFERROR(INDEX('All data'!$E:$E, MATCH(A6,'All data'!$A:$A, 0)), "") | F6: =IFERROR(INDEX('All data'!$F:$F, MATCH(A6,'All data'!$A:$A, 0)), "") | G6: =IFERROR(INDEX('All data'!$G:$G, MATCH(A6,'All data'!$A:$A, 0)), "") | H6: =IFERROR(INDEX('All data'!$H:$H, MATCH(A6,'All data'!$A:$A, 0)), "")
B7: =IFERROR(INDEX('All data'!$B:$B, MATCH(A7,'All data'!$A:$A, 0)), "") | C7: =IFERROR(INDEX('All data'!$C:$C, MATCH(A7,'All data'!$A:$A, 0)), "") | D7: =IFERROR(INDEX('All data'!$D:$D, MATCH(A7,'All data'!$A:$A, 0)), "") | E7: =IFERROR(INDEX('All data'!$E:$E, MATCH(A7,'All data'!$A:$A, 0)), "") | F7: =IFERROR(INDEX('All data'!$F:$F, MATCH(A7,'All data'!$A:$A, 0)), "") | G7: =IFERROR(INDEX('All data'!$G:$G, MATCH(A7,'All data'!$A:$A, 0)), "") | H7: =IFERROR(INDEX('All data'!$H:$H, MATCH(A7,'All data'!$A:$A, 0)), "")
B8: =IFERROR(INDEX('All data'!$B:$B, MATCH(A8,'All data'!$A:$A, 0)), "") | C8: =IFERROR(INDEX('All data'!$C:$C, MATCH(A8,'All data'!$A:$A, 0)), "") | D8: =IFERROR(INDEX('All data'!$D:$D, MATCH(A8,'All data'!$A:$A, 0)), "") | E8: =IFERROR(INDEX('All data'!$E:$E, MATCH(A8,'All data'!$A:$A, 0)), "") | F8: =IFERROR(INDEX('All data'!$F:$F, MATCH(A8,'All data'!$A:$A, 0)), "") | G8: =IFERROR(INDEX('All data'!$G:$G, MATCH(A8,'All data'!$A:$A, 0)), "") | H8: =IFERROR(INDEX('All data'!$H:$H, MATCH(A8,'All data'!$A:$A, 0)), "")
B9: =IFERROR(INDEX('All data'!$B:$B, MATCH(A9,'All data'!$A:$A, 0)), "") | C9: =IFERROR(INDEX('All data'!$C:$C, MATCH(A9,'All data'!$A:$A, 0)), "") | D9: =IFERROR(INDEX('All data'!$D:$D, MATCH(A9,'All data'!$A:$A, 0)), "") | E9: =IFERROR(INDEX('All data'!$E:$E, MATCH(A9,'All data'!$A:$A, 0)), "") | F9: =IFERROR(INDEX('All data'!$F:$F, MATCH(A9,'All data'!$A:$A, 0)), "") | G9: =IFERROR(INDEX('All data'!$G:$G, MATCH(A9,'All data'!$A:$A, 0)), "") | H9: =IFERROR(INDEX('All data'!$H:$H, MATCH(A9,'All data'!$A:$A, 0)), "")
B10: =IFERROR(INDEX('All data'!$B:$B, MATCH(A10,'All data'!$A:$A, 0)), "") | C10: =IFERROR(INDEX('All data'!$C:$C, MATCH(A10,'All data'!$A:$A, 0)), "") | D10: =IFERROR(INDEX('All data'!$D:$D, MATCH(A10,'All data'!$A:$A, 0)), "") | E10: =IFERROR(INDEX('All data'!$E:$E, MATCH(A10,'All data'!$A:$A, 0)), "") | F10: =IFERROR(INDEX('All data'!$F:$F, MATCH(A10,'All data'!$A:$A, 0)), "") | G10: =IFERROR(INDEX('All data'!$G:$G, MATCH(A10,'All data'!$A:$A, 0)), "") | H10: =IFERROR(INDEX('All data'!$H:$H, MATCH(A10,'All data'!$A:$A, 0)), "")
B11: =IFERROR(INDEX('All data'!$B:$B, MATCH(A11,'All data'!$A:$A, 0)), "") | C11: =IFERROR(INDEX('All data'!$C:$C, MATCH(A11,'All data'!$A:$A, 0)), "") | D11: =IFERROR(INDEX('All data'!$D:$D, MATCH(A11,'All data'!$A:$A, 0)), "") | E11: =IFERROR(INDEX('All data'!$E:$E, MATCH(A11,'All data'!$A:$A, 0)), "") | F11: =IFERROR(INDEX('All data'!$F:$F, MATCH(A11,'All data'!$A:$A, 0)), "") | G11: =IFERROR(INDEX('All data'!$G:$G, MATCH(A11,'All data'!$A:$A, 0)), "") | H11: =IFERROR(INDEX('All data'!$H:$H, MATCH(A11,'All data'!$A:$A, 0)), "")
B12: =IFERROR(INDEX('All data'!$B:$B, MATCH(A12,'All data'!$A:$A, 0)), "") | C12: =IFERROR(INDEX('All data'!$C:$C, MATCH(A12,'All data'!$A:$A, 0)), "") | D12: =IFERROR(INDEX('All data'!$D:$D, MATCH(A12,'All data'!$A:$A, 0)), "") | E12: =IFERROR(INDEX('All data'!$E:$E, MATCH(A12,'All data'!$A:$A, 0)), "") | F12: =IFERROR(INDEX('All data'!$F:$F, MATCH(A12,'All data'!$A:$A, 0)), "") | G12: =IFERROR(INDEX('All data'!$G:$G, MATCH(A12,'All data'!$A:$A, 0)), "") | H12: =IFERROR(INDEX('All data'!$H:$H, MATCH(A12,'All data'!$A:$A, 0)), "")
B13: =IFERROR(INDEX('All data'!$B:$B, MATCH(A13,'All data'!$A:$A, 0)), "") | C13: =IFERROR(INDEX('All data'!$C:$C, MATCH(A13,'All data'!$A:$A, 0)), "") | D13: =IFERROR(INDEX('All data'!$D:$D, MATCH(A13,'All data'!$A:$A, 0)), "") | E13: =IFERROR(INDEX('All data'!$E:$E, MATCH(A13,'All data'!$A:$A, 0)), "") | F13: =IFERROR(INDEX('All data'!$F:$F, MATCH(A13,'All data'!$A:$A, 0)), "") | G13: =IFERROR(INDEX('All data'!$G:$G, MATCH(A13,'All data'!$A:$A, 0)), "") | H13: =IFERROR(INDEX('All data'!$H:$H, MATCH(A13,'All data'!$A:$A, 0)), "")
B14: =IFERROR(INDEX('All data'!$B:$B, MATCH(A14,'All data'!$A:$A, 0)), "") | C14: =IFERROR(INDEX('All data'!$C:$C, MATCH(A14,'All data'!$A:$A, 0)), "") | D14: =IFERROR(INDEX('All data'!$D:$D, MATCH(A14,'All data'!$A:$A, 0)), "") | E14: =IFERROR(INDEX('All data'!$E:$E, MATCH(A14,'All data'!$A:$A, 0)), "") | F14: =IFERROR(INDEX('All data'!$F:$F, MATCH(A14,'All data'!$A:$A, 0)), "") | G14: =IFERROR(INDEX('All data'!$G:$G, MATCH(A14,'All data'!$A:$A, 0)), "") | H14: =IFERROR(INDEX('All data'!$H:$H, MATCH(A14,'All data'!$A:$A, 0)), "")
B15: =IFERROR(INDEX('All data'!$B:$B, MATCH(A15,'All data'!$A:$A, 0)), "") | C15: =IFERROR(INDEX('All data'!$C:$C, MATCH(A15,'All data'!$A:$A, 0)), "") | D15: =IFERROR(INDEX('All data'!$D:$D, MATCH(A15,'All data'!$A:$A, 0)), "") | E15: =IFERROR(INDEX('All data'!$E:$E, MATCH(A15,'All data'!$A:$A, 0)), "") | F15: =IFERROR(INDEX('All data'!$F:$F, MATCH(A15,'All data'!$A:$A, 0)), "") | G15: =IFERROR(INDEX('All data'!$G:$G, MATCH(A15,'All data'!$A:$A, 0)), "") | H15: =IFERROR(INDEX('All data'!$H:$H, MATCH(A15,'All data'!$A:$A, 0)), "")
... B169: =IFERROR(INDEX('All data'!$B:$B, MATCH(A169,'All data'!$A:$A, 0)), "") | C169: =IFERROR(INDEX('All data'!$C:$C, MATCH(A169,'All data'!$A:$A, 0)), "") | D169: =IFERROR(INDEX('All data'!$D:$D, MATCH(A169,'All data'!$A:$A, 0)), "") | E169: =IFERROR(INDEX('All data'!$E:$E, MATCH(A169,'All data'!$A:$A, 0)), "") | F169: =IFERROR(INDEX('All data'!$F:$F, MATCH(A169,'All data'!$A:$A, 0)), "") | G169: =IFERROR(INDEX('All data'!$G:$G, MATCH(A169,'All data'!$A:$A, 0)), "") | H169: =IFERROR(INDEX('All data'!$H:$H, MATCH(A169,'All data'!$A:$A, 0)), "")
B170: =IFERROR(INDEX('All data'!$B:$B, MATCH(A170,'All data'!$A:$A, 0)), "") | C170: =IFERROR(INDEX(#REF!, MATCH(A170,#REF!, 0)), "") | D170: =IFERROR(INDEX(#REF!, MATCH(A170,#REF!, 0)), "") | E170: =IFERROR(INDEX(#REF!, MATCH(A170,#REF!, 0)), "") | F170: =IFERROR(INDEX(#REF!, MATCH(A170,#REF!, 0)), "") | G170: =IFERROR(INDEX(#REF!, MATCH(A170,#REF!, 0)), "") | H170: =IFERROR(INDEX(#REF!, MATCH(A170,#REF!, 0)), "")
B171: =IFERROR(INDEX('All data'!$B:$B, MATCH(A171,'All data'!$A:$A, 0)), "") | C171: =IFERROR(INDEX(#REF!, MATCH(A171,#REF!, 0)), "") | D171: =IFERROR(INDEX(#REF!, MATCH(A171,#REF!, 0)), "") | E171: =IFERROR(INDEX(#REF!, MATCH(A171,#REF!, 0)), "") | F171: =IFERROR(INDEX(#REF!, MATCH(A171,#REF!, 0)), "") | G171: =IFERROR(INDEX(#REF!, MATCH(A171,#REF!, 0)), "") | H171: =IFERROR(INDEX(#REF!, MATCH(A171,#REF!, 0)), "")
B172: =IFERROR(INDEX('All data'!$B:$B, MATCH(A172,'All data'!$A:$A, 0)), "") | C172: =IFERROR(INDEX(#REF!, MATCH(A172,#REF!, 0)), "") | D172: =IFERROR(INDEX(#REF!, MATCH(A172,#REF!, 0)), "") | E172: =IFERROR(INDEX(#REF!, MATCH(A172,#REF!, 0)), "") | F172: =IFERROR(INDEX(#REF!, MATCH(A172,#REF!, 0)), "") | G172: =IFERROR(INDEX(#REF!, MATCH(A172,#REF!, 0)), "") | H172: =IFERROR(INDEX(#REF!, MATCH(A172,#REF!, 0)), "")
B173: =IFERROR(INDEX('All data'!$B:$B, MATCH(A173,'All data'!$A:$A, 0)), "") | C173: =IFERROR(INDEX(#REF!, MATCH(A173,#REF!, 0)), "") | D173: =IFERROR(INDEX(#REF!, MATCH(A173,#REF!, 0)), "") | E173: =IFERROR(INDEX(#REF!, MATCH(A173,#REF!, 0)), "") | F173: =IFERROR(INDEX(#REF!, MATCH(A173,#REF!, 0)), "") | G173: =IFERROR(INDEX(#REF!, MATCH(A173,#REF!, 0)), "") | H173: =IFERROR(INDEX(#REF!, MATCH(A173,#REF!, 0)), "")
B174: =IFERROR(INDEX('All data'!$B:$B, MATCH(A174,'All data'!$A:$A, 0)), "") | C174: =IFERROR(INDEX(#REF!, MATCH(A174,#REF!, 0)), "") | D174: =IFERROR(INDEX(#REF!, MATCH(A174,#REF!, 0)), "") | E174: =IFERROR(INDEX(#REF!, MATCH(A174,#REF!, 0)), "") | F174: =IFERROR(INDEX(#REF!, MATCH(A174,#REF!, 0)), "") | G174: =IFERROR(INDEX(#REF!, MATCH(A174,#REF!, 0)), "") | H174: =IFERROR(INDEX(#REF!, MATCH(A174,#REF!, 0)), "")
B175: =IFERROR(INDEX('All data'!$B:$B, MATCH(A175,'All data'!$A:$A, 0)), "") | C175: =IFERROR(INDEX(#REF!, MATCH(A175,#REF!, 0)), "") | D175: =IFERROR(INDEX(#REF!, MATCH(A175,#REF!, 0)), "") | E175: =IFERROR(INDEX(#REF!, MATCH(A175,#REF!, 0)), "") | F175: =IFERROR(INDEX(#REF!, MATCH(A175,#REF!, 0)), "") | G175: =IFERROR(INDEX(#REF!, MATCH(A175,#REF!, 0)), "") | H175: =IFERROR(INDEX(#REF!, MATCH(A175,#REF!, 0)), "")
B176: =IFERROR(INDEX('All data'!$B:$B, MATCH(A176,'All data'!$A:$A, 0)), "") | C176: =IFERROR(INDEX(#REF!, MATCH(A176,#REF!, 0)), "") | D176: =IFERROR(INDEX(#REF!, MATCH(A176,#REF!, 0)), "") | E176: =IFERROR(INDEX(#REF!, MATCH(A176,#REF!, 0)), "") | F176: =IFERROR(INDEX(#REF!, MATCH(A176,#REF!, 0)), "") | G176: =IFERROR(INDEX(#REF!, MATCH(A176,#REF!, 0)), "") | H176: =IFERROR(INDEX(#REF!, MATCH(A176,#REF!, 0)), "")
B177: =IFERROR(INDEX('All data'!$B:$B, MATCH(A177,'All data'!$A:$A, 0)), "") | C177: =IFERROR(INDEX(#REF!, MATCH(A177,#REF!, 0)), "") | D177: =IFERROR(INDEX(#REF!, MATCH(A177,#REF!, 0)), "") | E177: =IFERROR(INDEX(#REF!, MATCH(A177,#REF!, 0)), "") | F177: =IFERROR(INDEX(#REF!, MATCH(A177,#REF!, 0)), "") | G177: =IFERROR(INDEX(#REF!, MATCH(A177,#REF!, 0)), "") | H177: =IFERROR(INDEX(#REF!, MATCH(A177,#REF!, 0)), "")
B178: =IFERROR(INDEX('All data'!$B:$B, MATCH(A178,'All data'!$A:$A, 0)), "") | C178: =IFERROR(INDEX(#REF!, MATCH(A178,#REF!, 0)), "") | D178: =IFERROR(INDEX(#REF!, MATCH(A178,#REF!, 0)), "") | E178: =IFERROR(INDEX(#REF!, MATCH(A178,#REF!, 0)), "") | F178: =IFERROR(INDEX(#REF!, MATCH(A178,#REF!, 0)), "") | G178: =IFERROR(INDEX(#REF!, MATCH(A178,#REF!, 0)), "") | H178: =IFERROR(INDEX(#REF!, MATCH(A178,#REF!, 0)), "")
B179: =IFERROR(INDEX('All data'!$B:$B, MATCH(A179,'All data'!$A:$A, 0)), "") | C179: =IFERROR(INDEX(#REF!, MATCH(A179,#REF!, 0)), "") | D179: =IFERROR(INDEX(#REF!, MATCH(A179,#REF!, 0)), "") | E179: =IFERROR(INDEX(#REF!, MATCH(A179,#REF!, 0)), "") | F179: =IFERROR(INDEX(#REF!, MATCH(A179,#REF!, 0)), "") | G179: =IFERROR(INDEX(#REF!, MATCH(A179,#REF!, 0)), "") | H179: =IFERROR(INDEX(#REF!, MATCH(A179,#REF!, 0)), "")
B180: =IFERROR(INDEX('All data'!$B:$B, MATCH(A180,'All data'!$A:$A, 0)), "") | C180: =IFERROR(INDEX(#REF!, MATCH(A180,#REF!, 0)), "") | D180: =IFERROR(INDEX(#REF!, MATCH(A180,#REF!, 0)), "") | E180: =IFERROR(INDEX(#REF!, MATCH(A180,#REF!, 0)), "") | F180: =IFERROR(INDEX(#REF!, MATCH(A180,#REF!, 0)), "") | G180: =IFERROR(INDEX(#REF!, MATCH(A180,#REF!, 0)), "") | H180: =IFERROR(INDEX(#REF!, MATCH(A180,#REF!, 0)), "")
B181: =IFERROR(INDEX('All data'!$B:$B, MATCH(A181,'All data'!$A:$A, 0)), "") | C181: =IFERROR(INDEX(#REF!, MATCH(A181,#REF!, 0)), "") | D181: =IFERROR(INDEX(#REF!, MATCH(A181,#REF!, 0)), "") | E181: =IFERROR(INDEX(#REF!, MATCH(A181,#REF!, 0)), "") | F181: =IFERROR(INDEX(#REF!, MATCH(A181,#REF!, 0)), "") | G181: =IFERROR(INDEX(#REF!, MATCH(A181,#REF!, 0)), "") | H181: =IFERROR(INDEX(#REF!, MATCH(A181,#REF!, 0)), "")
... B501: =IFERROR(INDEX('All data'!$B:$B, MATCH(A501,'All data'!$A:$A, 0)), "") | C501: =IFERROR(INDEX(#REF!, MATCH(A501,#REF!, 0)), "") | D501: =IFERROR(INDEX(#REF!, MATCH(A501,#REF!, 0)), "") | E501: =IFERROR(INDEX(#REF!, MATCH(A501,#REF!, 0)), "") | F501: =IFERROR(INDEX(#REF!, MATCH(A501,#REF!, 0)), "") | G501: =IFERROR(INDEX(#REF!, MATCH(A501,#REF!, 0)), "") | H501: =IFERROR(INDEX(#REF!, MATCH(A501,#REF!, 0)), "")
B502: =IFERROR(INDEX('All data'!$B:$B, MATCH(A502,'All data'!$A:$A, 0)), "")
B503: =IFERROR(INDEX('All data'!$B:$B, MATCH(A503,'All data'!$A:$A, 0)), "")
B504: =IFERROR(INDEX('All data'!$B:$B, MATCH(A504,'All data'!$A:$A, 0)), "")
B505: =IFERROR(INDEX('All data'!$B:$B, MATCH(A505,'All data'!$A:$A, 0)), "")
B506: =IFERROR(INDEX('All data'!$B:$B, MATCH(A506,'All data'!$A:$A, 0)), "")
B507: =IFERROR(INDEX('All data'!$B:$B, MATCH(A507,'All data'!$A:$A, 0)), "")
B508: =IFERROR(INDEX('All data'!$B:$B, MATCH(A508,'All data'!$A:$A, 0)), "")
B509: =IFERROR(INDEX('All data'!$B:$B, MATCH(A509,'All data'!$A:$A, 0)), "")
B510: =IFERROR(INDEX('All data'!$B:$B, MATCH(A510,'All data'!$A:$A, 0)), "")
B511: =IFERROR(INDEX('All data'!$B:$B, MATCH(A511,'All data'!$A:$A, 0)), "")
B512: =IFERROR(INDEX('All data'!$B:$B, MATCH(A512,'All data'!$A:$A, 0)), "")
B513: =IFERROR(INDEX('All data'!$B:$B, MATCH(A513,'All data'!$A:$A, 0)), "")
... B1194: =IFERROR(INDEX('All data'!$B:$B, MATCH(A1194,'All data'!$A:$A, 0)), "")

Sheet All data
A1: Code | B1: اسم العميل | C1: Customer Name | D1: المدينة | E1: City | F1: المنطقة الإدارية | G1: Administrative Region | H1: العنوان
A2: HCP-A-0001 | B2: مركز صحي السرو | C2: Cypress Health Center | D2: النماص | E2: Al Namas | F2: منطقة عسير | G2: Aseer
A3: HCP-A-0002 | B3: مركز صحي فرعة سلمان | C3: Far'a Salman Health Center | D3: النماص | E3: Al Namas | F3: منطقة عسير | G3: Aseer
A4: HCP-A-0003 | B4: مركز صحي حلباء | C4: Halbaa Health Center | D4: حلباء | E4: Halba | F4: منطقة عسير | G4: Aseer
A5: HCP-A-0004 | B5: مركز صحي وادي زيد | C5: Wadi Zaid Health Center | D5: النماص | E5: Al Namas | F5: منطقة عسير | G5: Aseer
A6: HCP-A-0005 | B6: مركز صحي عاكسة | C6: akssah PHCC | D6: النماص | E6: Al Namas | F6: منطقة عسير | G6: Aseer
A7: HCP-A-0006 | B7: مركز صحي الظهاره | C7: Al Dhaharah Health Center | D7: النماص | E7: Al Namas | F7: منطقة عسير | G7: Aseer
A8: HCP-A-0007 | B8: مركز صحي النماص | C8: Al-Namas Health Center | D8: النماص | E8: Al Namas | F8: منطقة عسير | G8: Aseer
A9: HCP-A-0008 | B9: مركز صحي نشيان | C9: Nashian Health Center | D9: النماص | E9: Al Namas | F9: منطقة عسير | G9: Aseer
A10: HCP-A-0009 | B10: مستشفى النماص العام | C10: Al Namas General Hospital | D10: النماص | E10: Al Namas | F10: منطقة عسير | G10: Aseer
A11: HCP-A-0010 | B11: مستشفى محافظة البرك العام | C11: albirk general hospital | D11: البرك | E11: Al Birk | F11: منطقة عسير | G11: Aseer | H11: البرك
A12: HCP-A-0011 | B12: مركز صحي لتين | C12: laten PHCC | D12: محايل | E12: Muhayil | F12: منطقة عسير | G12: Aseer | H12: لتين
A13: HCP-A-0012 | B13: مركز صحي الضرس | C13: Aldurs PHCC | D13: محايل | E13: Muhayil | F13: منطقة عسير | G13: Aseer | H13: الضرس
A14: HCP-A-0013 | B14: مركز صحي تيه | C14: taeh PHCC | D14: محايل | E14: Muhayil | F14: منطقة عسير | G14: Aseer | H14: تيه
A15: HCP-A-0014 | B15: مركز صحي قنا | C15: Qana PHCC | D15: قنا | E15: Qana | F15: منطقة عسير | G15: Aseer | H15: البلد
A16: HCP-A-0015 | B16: مركز صحي المقاعد | C16: almaqaeid PHCC | D16: محايل | E16: Muhayil | F16: منطقة عسير | G16: Aseer | H16: المقاعد
A17: HCP-A-0016 | B17: مركز صحي ترقش | C17: Turqesh PHCC | D17: محايل | E17: Muhayil | F17: منطقة عسير | G17: Aseer | H17: ترقش
A18: HCP-A-0017 | B18: مركز صحي حبطن | C18: Hubten PHCC | D18: محايل | E18: Muhayil | F18: منطقة عسير | G18: Aseer | H18: حبطن
A19: HCP-A-0018 | B19: مركز صحي الطحاحين | C19: Althaheen PHCC | D19: محايل | E19: Muhayil | F19: منطقة عسير | G19: Aseer | H19: الطحاحين
A20: HCP-A-0019 | B20: مركز صحي الريش | C20: Alresh PHCC | D20: محايل | E20: Muhayil | F20: منطقة عسير | G20: Aseer | H20: الريش
A21: HCP-A-0020 | B21: مركز صحي فرشاط | C21: Fershat PHCC | D21: محايل | E21: Muhayil | F21: منطقة عسير | G21: Aseer | H21: فرشاط
A22: HCP-A-0021 | B22: مركز صحي حميد العلايا | C22: Hameed Alalaya PHCC | D22: محايل | E22: Muhayil | F22: منطقة عسير | G22: Aseer | H22: حميد العلايا
... A25: HCP-A-0024 | B25: مستشفى محايل العام | C25: Mahayel General Hospital | D25: محايل | E25: Muhayil | F25: منطقة عسير | G25: Aseer | H25: الحيلة
A26: HCP-A-0025 | B26: مركز صحي غرب محايل1 | C26: PHCC MUHAYEL WEST | D26: محايل | E26: Muhayil | F26: منطقة عسير | G26: Aseer
A27: HCP-A-0026 | B27: مركز صحي بحر ابو سكينة | C27: Bahr Aboskenah PHCC | D27: محايل | E27: Muhayil | F27: منطقة عسير | G27: Aseer | H27: بحر ابو سكينة
A28: HCP-A-0027 | B28: مركز صحي سحر ال عاصم | C28: Sahr Alaseem PHCC | D28: محايل | E28: Muhayil | F28: منطقة عسير | G28: Aseer | H28: سحر ال عاصم
A29: HCP-A-0028 | B29: مركز صحي وسط محايل | C29: Mahayil Center PHCC | D29: محايل | E29: Muhayil | F29: منطقة عسير | G29: Aseer | H29: البلد
A30: HCP-A-0029 | B30: مركز صحي بني ذيب | C30: bani Deeb PHCC | D30: محايل | E30: Muhayil | F30: منطقة عسير | G30: Aseer | H30: بني ذيب
A31: HCP-A-0030 | B31: مركز محايل الصحي | C31: Mahayel PHCC | D31: محايل | E31: Muhayil | F31: منطقة عسير | G31: Aseer | H31: البلد
A32: HCP-A-0031 | B32: مركز صحي الربوعة | C32: AL Rabou.a Health Center | D32: ظهران الجنوب | E32: Dhahran Al Janub | F32: منطقة عسير | G32: Aseer
A33: HCP-A-0032 | B33: الفطاع الصحي بظهران الجنوب -مركز الحاجر | C33: alhagerphcc | D33: ظهران الجنوب | E33: Dhahran Al Janub | F33: منطقة عسير | G33: Aseer | H33: الحاجر
A34: HCP-A-0033 | B34: مركز الرعاية الصحية الأولية بالرونة | C34: ASEER PHCC RAWNAH | D34: أحد رفيدة | E34: Ahad Rafidah | F34: منطقة عسير | G34: Aseer | H34: الرونة
A35: HCP-A-0034 | B35: القطاع الصحي بظهران الجنوب - الرحيب الغربي | C35: alraheeb algharbi phcc | D35: ظهران الجنوب | E35: Dhahran Al Janub | F35: منطقة عسير | G35: Aseer | H35: الرحيب الغربي
A36: HCP-A-0035 | B36: القطاع الصحي بظهران الجنوب مركز صحي البقعة | C36: albogahphcc | D36: ظهران الجنوب | E36: Dhahran Al Janub | F36: منطقة عسير | G36: Aseer | H36: البقعة
A37: HCP-A-0036 | B37: القطاع الصحي بظهران الجنوب- مركز صحي كتام | C37: ketamphc | D37: ظهران الجنوب | E37: Dhahran Al Janub | F37: منطقة عسير | G37: Aseer | H37: كتام
A38: HCP-A-0037 | B38: مركز الرعاية الاولية الصحية بالطلحة | C38: altalhah phcc | D38: ظهران الجنوب | E38: Dhahran Al Janub | F38: منطقة عسير | G38: Aseer
A39: HCP-A-0038 | B39: القطاع الحصي بظهران الجنوب- مركز الغيل | C39: algailphcc | D39: ظهران الجنوب | E39: Dhahran Al Janub | F39: منطقة عسير | G39: Aseer | H39: الغيل
A40: HCP-A-0039 | B40: مركز صحي وادي الفيض قطاع الحرجه | C40: ALFAID PRIMARY HEALTH CARE | D40: ظهران الجنوب | E40: Dhahran Al Janub | F40: منطقة عسير | G40: Aseer | H40: الحرجه
A41: HCP-A-0040 | B41: مركز صحي يعوض الكوله للرعايه الصحيه الاوليه -قطاع الحرجه | C41: alkola PHC | D41: ظهران الجنوب | E41: Dhahran Al Janub | F41: منطقة عسير | G41: Aseer | H41: الحرجه
A42: HCP-A-0041 | B42: قطاع الحرجه مركز صحي جناب | C42: JANAB PHC | D42: ظهران الجنوب | E42: Dhahran Al Janub | F42: منطقة عسير | G42: Aseer | H42: الحرجه العام
A43: HCP-A-0042 | B43: مركز صحي راحة سنحان قطاع صحي الحرجه | C43: RAHA SANHAN PHC | D43: ظهران الجنوب | E43: Dhahran Al Janub | F43: منطقة عسير | G43: Aseer | H43: راحة سنحان
A44: HCP-A-0043 | B44: مركز صحي النعضاء | C44: alnaada PHC | D44: ظهران الجنوب | E44: Dhahran Al Janub | F44: منطقة عسير | G44: Aseer | H44: الحرجه
A45: HCP-A-0044 | B45: مركز صحي الحرجه | C45: Harajah phc | D45: ظهران الجنوب | E45: Dhahran Al Janub | F45: منطقة عسير | G45: Aseer | H45: الحرجه
A46: HCP-A-0045 | B46: قطاع صحي الحرجة مركز صحي الغول | C46: algoal PHC | D46: ظهران الجنوب | E46: Dhahran Al Janub | F46: منطقة عسير | G46: Aseer | H46: الحرجه
A47: HCP-A-0046 | B47: مركز صحي الرفغه والملاحه | C47: Alrufga and almlaha PHC | D47: ظهران الجنوب | E47: Dhahran Al Janub | F47: منطقة عسير | G47: Aseer | H47: الحرجه
A48: HCP-A-0047 | B48: مستشفى ظهران الجنوب العام | C48: Dhahran al Janoub General Hospital | D48: ظهران الجنوب | E48: Dhahran Al Janub | F48: منطقة عسير | G48: Aseer | H48: حي السلام
A49: HCP-A-0048 | B49: مستشفى تثليث العام | C49: TATHLEETH GENERAL HOSPITAL | D49: تثليث | E49: Tathilith | F49: منطقة عسير | G49: Aseer | H49: المدينة
A50: HCP-A-0049 | B50: مستشفى سراة عبيدة العام | C50: Sarat abeedah general hospital | D50: سراة عبيدة | E50: Sarat Ubaida | F50: منطقة عسير | G50: Aseer | H50: حي الشفا
... A81: HCP-A-0080 | B81: مركز صحي خيرية الملك فيصل | C81: ASEER PHCC KFISAL | D81: أحد رفيدة | E81: Ahad Rafidah | F81: منطقة عسير | G81: Aseer | H81: المحيميد
A82: HCP-A-0081 | B82: مخطط الأمير عبدالرحمن | C82: ASEER-PHCC-PRINCEA | D82: أحد رفيدة | E82: Ahad Rafidah | F82: منطقة عسير | G82: Aseer
A83: HCP-A-0082 | B83: مركز الرعاية الصحية الأولية بشعف جارمة | C83: primary health care center of shaaf jarmh | D83: أحد رفيدة | E83: Ahad Rafidah | F83: منطقة عسير | G83: Aseer | H83: شعف جارمة
A84: HCP-A-0083 | B84: مركز الرعاية الصحية الاولية بالواديين | C84: ASEER PHCC WADYAIN | D84: أحد رفيدة | E84: Ahad Rafidah | F84: منطقة عسير | G84: Aseer | H84: ال عامر
A85: HCP-A-0084 | B85: مركز الرعاية الصحية الأولية بآل بريد | C85: ASEER PHCC ALBRAID | D85: أحد رفيدة | E85: Ahad Rafidah | F85: منطقة عسير | G85: Aseer | H85: ال بريد
A86: HCP-A-0085 | B86: مركز الرعاية الصحية الأولية بالصمخية | C86: aseer phcc smakayah | D86: أحد رفيدة | E86: Ahad Rafidah | F86: منطقة عسير | G86: Aseer | H86: الصمخية
A87: HCP-A-0086 | B87: مركز صحي أحد رفيدة | C87: ASEER PHCC PRINCEA | D87: أحد رفيدة | E87: Ahad Rafidah | F87: منطقة عسير | G87: Aseer | H87: وسط البلد
A88: HCP-A-0087 | B88: مركز الرعاية الصحية الاولية بالمجاردة | C88: Primary Health Care Center almajardah | D88: ابها | E88: Abha | F88: منطقة عسير | G88: Aseer | H88: الربوه
A89: HCP-A-0088 | B89: مركز الرعاية الصحية الاولية بثربان | C89: Primary Health Care Center THRBAN | D89: المجاردة | E89: Al Majaridah | F89: منطقة عسير | G89: Aseer | H89: الربوه
A90: HCP-A-0089 | B90: مركز الرعاية الصحية الاولية بختبة | C90: Primary Health Care Center KHATBA | D90: ابها | E90: Abha | F90: منطقة عسير | G90: Aseer | H90: الربوه
A91: HCP-A-0090 | B91: مركز الرعاية الصحية الاولية بأل غيلان | C91: Primary Health Care Center the al Ghilan | D91: المجاردة | E91: Al Majaridah | F91: منطقة عسير | G91: Aseer | H91: الربوه
A92: HCP-A-0091 | B92: مركز الرعاية الصحية الاوليه بخاط | C92: Primary Health Care Center KHAT | D92: المجاردة | E92: Al Majaridah | F92: منطقة عسير | G92: Aseer | H92: الربوه
A93: HCP-A-0092 | B93: مركز الرعاية الصحية الاولية بالطلاليع | C93: Primary health care center in Talayea | D93: المجاردة | E93: Al Majaridah | F93: منطقة عسير | G93: Aseer | H93: الربوه
A94: HCP-A-0093 | B94: مركز الرعاية الصحية الاولية بعبس | C94: Primary Health Care Center abss | D94: المجاردة | E94: Al Majaridah | F94: منطقة عسير | G94: Aseer | H94: الربوه
... A107: HCP-A-0106 | B107: مركز الرعاية الصحية الاوليه ببارق | C107: bariq primary health care center | D107: بارق | E107: Bareq | F107: منطقة عسير | G107: Aseer | H107: القادسيه
A108: HCP-A-0107 | B108: مركز صحي صعبان | C108: Saaban bhcc | D108: بارق | E108: Bareq | F108: منطقة عسير | G108: Aseer
A109: HCP-A-0108 | B109: مركز الرعاية الصحية الأولية بوادي سهول | C109: suhool primary health care center | D109: بارق | E109: Bareq | F109: منطقة عسير | G109: Aseer | H109: الأحسر
A110: HCP-A-0109 | B110: مركز الرعايه الاوليه بالسليم | C110: SULAEM | D110: بارق | E110: Bareq | F110: منطقة عسير | G110: Aseer
A111: HCP-A-0110 | B111: مركز صحي ثلوث المنظر | C111: thloothalnzr | D111: بارق | E111: Bareq | F111: منطقة عسير | G111: Aseer
A112: HCP-A-0111 | B112: مركز الرعاية الصحية الاولية بالخوش | C112: al koush phcc | D112: بارق | E112: Bareq | F112: منطقة عسير | G112: Aseer | H112: الخوش
A113: HCP-A-0112 | B113: مركز الرعاية الصحية الأولية بخلصة نصبه | C113: Khulat Nusba Primary Health Care Center | D113: بارق | E113: Bareq | F113: منطقة عسير | G113: Aseer | H113: خلصة نصبه
A114: HCP-A-0113 | B114: مركز الرعاية الصحية الأولية بالمسلمة | C114: Almaslama primary health center | D114: بارق | E114: Bareq | F114: منطقة عسير | G114: Aseer
A115: HCP-A-0114 | B115: مركز صحي منصبة | C115: mansbah phc | D115: تنومة | E115: Tanomah | F115: منطقة عسير | G115: Aseer | H115: منصبة
A116: HCP-A-0115 | B116: مركز صحي سبت تنومة | C116: sabt tanomah phc | D116: تنومة | E116: Tanomah | F116: منطقة عسير | G116: Aseer | H116: سبت تنومة
A117: HCP-A-0116 | B117: مركز الرعاية الصحية الاولية حوراء | C117: hora phcc billasmar sector | D117: باللسمر | E117: Billasmar | F117: منطقة عسير | G117: Aseer
A118: HCP-A-0117 | B118: مركز الرعاية الصحية الأولية بخارف | C118: kharif phcc | D118: باللسمر | E118: Billasmar | F118: منطقة عسير | G118: Aseer
A119: HCP-A-0118 | B119: مركز صحي سدوان | C119: Sadwan Phcc | D119: ابها | E119: Abha | F119: منطقة عسير | G119: Aseer
A120: HCP-A-0119 | B120: مستشفى تنومة العام | C120: Tanuma General Hospital | D120: تنومة | E120: Tanomah | F120: منطقة عسير | G120: Aseer | H120: الحي المركزي
A121: HCP-A-0120 | B121: مركز الرعاية الصحية الاولية بطريب | C121: Tareeb Primary Healthcare Center | D121: طريب | E121: Tarib | F121: منطقة عسير | G121: Aseer | H121: الحدباء
A122: HCP-A-0121 | B122: مركز الرعايه الصحيه بالخنقه | C122: alkhanagah PHCC | D122: طريب | E122: Tarib | F122: منطقة عسير | G122: Aseer | H122: الخنقه
A123: HCP-A-0122 | B123: مركز صحي ملحة الحباب | C123: Malhat alhabab PHCC | D123: طريب | E123: Tarib | F123: منطقة عسير | G123: Aseer | H123: ملحة الحباب
A124: HCP-A-0123 | B124: مركز صحي الحفاير | C124: ALHFAYER PHCC | D124: طريب | E124: Tarib | F124: منطقة عسير | G124: Aseer | H124: الحفاير
A125: HCP-A-0124 | B125: مركز صحي المضة | C125: AlMaddah PHC | D125: طريب | E125: Tarib | F125: منطقة عسير | G125: Aseer | H125: المضة
A126: HCP-A-0125 | B126: مركز صحي الغرس | C126: algars phcc | D126: طريب | E126: Tarib | F126: منطقة عسير | G126: Aseer | H126: الغرس
A127: HCP-A-0126 | B127: مركز صحي عرين قحطان | C127: alareen phcc | D127: ابها | E127: Abha | F127: منطقة عسير | G127: Aseer | H127: العرين
A128: HCP-A-0127 | B128: مستشفى عسير المركزي | C128: ASEER CENTRAL HOSPITAL | D128: ابها | E128: Abha | F128: منطقة عسير | G128: Aseer | H128: المنسك
A129: HCP-A-0128 | B129: مركز صحي وسط أبها | C129: WASTABHA PHCC | D129: ابها | E129: Abha | F129: منطقة عسير | G129: Aseer | H129: البصرة
A130: HCP-A-0129 | B130: مركز صحي المطار | C130: airport health center | D130: ابها | E130: Abha | F130: منطقة عسير | G130: Aseer
A131: HCP-A-0130 | B131: مركز الرعاية الصحية الأولية بالشلفاء | C131: Alshalfa Primary Health Care Center | D131: ابها | E131: Abha | F131: منطقة عسير | G131: Aseer | H131: الشلفاء
A132: HCP-A-0131 | B132: مركز الرعاية الصحية الأولية بمدينة سلطان | C132: Madinat Sultan Primary Health Care Center | D132: ابها | E132: Abha | F132: منطقة عسير | G132: Aseer | H132: مدينة سلطان
A133: HCP-A-0132 | B133: مركز الرعاية الصحية الأولية ببني شدان | C133: Bni shdan Primary Health Care Center | D133: ابها | E133: Abha | F133: منطقة عسير | G133: Aseer | H133: القرين
A134: HCP-A-0133 | B134: مركز الرعاية الصحية الأولية بالفرعاء | C134: Alfaraa Primary Health Care Center | D134: ابها | E134: Abha | F134: منطقة عسير | G134: Aseer | H134: الفرعاء
A135: HCP-A-0134 | B135: مركز الرعاية الصحية الأولية بوادي سكار | C135: Wadi Sukar Primary Health Care Center | D135: ابها | E135: Abha | F135: منطقة عسير | G135: Aseer | H135: وادي سكار
A136: HCP-A-0135 | B136: مركز الرعاية الصحية الأولية بالجهيفة | C136: Aljahefah Primary Health Care Center | D136: ابها | E136: Abha | F136: منطقة عسير | G136: Aseer | H136: الجهيفة
A137: HCP-A-0136 | B137: مركز الرعاية الصحية الأولية بالنميص | C137: Alnumais Primary Health Care Center | D137: ابها | E137: Abha | F137: منطقة عسير | G137: Aseer | H137: الربوة
A138: HCP-A-0137 | B138: مركز الرعاية الصحية الأولية بوادي حلالي | C138: Wadi Hlaly Primary Health Care Center | D138: ابها | E138: Abha | F138: منطقة عسير | G138: Aseer | H138: وادي حلالي
A139: HCP-A-0138 | B139: مركز الرعاية الصحية الأولية بريدة آل جليحة | C139: Reedah Primary Health Care Center | D139: ابها | E139: Abha | F139: منطقة عسير | G139: Aseer | H139: ريدة آل جليحة
A140: HCP-A-0139 | B140: مركز الرعاية الصحية الأولية بوادي تضرع | C140: Tadraa Primary Health Care Center | D140: ابها | E140: Abha | F140: منطقة عسير | G140: Aseer | H140: وادي تضراع
A141: HCP-A-0140 | B141: مركز الرعاية الصحية الأولية بردوم | C141: Rodom Primary Health Care Center | D141: ابها | E141: Abha | F141: منطقة عسير | G141: Aseer | H141: ردوم
A142: HCP-A-0141 | B142: مركز الرعاية الصحية الأولية بوادي ذهب | C142: Wadi Thehb Primary Health Care Center | D142: ابها | E142: Abha | F142: منطقة عسير | G142: Aseer | H142: وادي ذهب
... A166: HCP-A-0165 | B166: مستشفى الصحة النفسية بأبها | C166: ABHA PSYCHIATRIC HOSPITAL | D166: ابها | E166: Abha | F166: منطقة عسير | G166: Aseer | H166: المثناه
A167: HCP-A-0166 | B167: مستشفى القوات المسلحة بالجنوب | C167: Southern Armed Forces Hospital | D167: خميس مشيط | E167: Khamis Mushait | F167: منطقة عسير | G167: Aseer
...

Sheet اعتماد الوثبقة
A2: اسم الوثيقة | B2: Affected Customers List and Progress Report Form
A3: القطاع | B3: الأجهزة و المنتجات الطبية
A4: الإدارة التنفيذية | B4: للرقابة والقياسات الحيوية
A5: الإدارة | B5: الرقابة
A6: القسم | B6: الإستدعاء و المتابعة
A7: رمز الوثيقة | B7: MDS-F-310-037-V2
A8: اسم الاجراء المرتبط بالنموذج | B8: Policy and Procedure of Safety Alerts Follow-up and Communication
A9: تاريخ الاعتماد | B9: 16/12/2025
